BEGIN:VCALENDAR
VERSION:2.0
PRODID:-//Alix Gardner Cookery School Dublin - Cookery Classes - ECPv6.15.18//NONSGML v1.0//EN
CALSCALE:GREGORIAN
METHOD:PUBLISH
X-WR-CALNAME:Alix Gardner Cookery School Dublin - Cookery Classes
X-ORIGINAL-URL:https://www.dublincookery.com
X-WR-CALDESC:Events for Alix Gardner Cookery School Dublin - Cookery Classes
REFRESH-INTERVAL;VALUE=DURATION:PT1H
X-Robots-Tag:noindex
X-PUBLISHED-TTL:PT1H
BEGIN:VTIMEZONE
TZID:UTC
BEGIN:STANDARD
TZOFFSETFROM:+0000
TZOFFSETTO:+0000
TZNAME:UTC
DTSTART:20240101T000000
END:STANDARD
END:VTIMEZONE
BEGIN:VEVENT
DTSTART;VALUE=DATE:20251231
DTEND;VALUE=DATE:20260522
DTSTAMP:20260420T130746
CREATED:20220213T170844Z
LAST-MODIFIED:20251205T142735Z
UID:5884-1767139200-1779407999@www.dublincookery.com
SUMMARY:Due to a high demand for private corporate bonding cookery events (team building\, office gatherings\, etc.) we are not running scheduled courses at present.
DESCRIPTION:For team building or corporate events please call +353-1-6681553  or email alix@dublincookery.com
URL:https://www.dublincookery.com/cooking_classes/due-to-the-demand-for-private-corporate-bonding-cookery-events-we-are-not-offering-our-full-range-of-evening-cookery-classes-this-winter-we-will-be-offering-more-cookery-classes-from-january-2023/
LOCATION:Alix Gardners Cookery School\, 71 Waterloo Road\,\, Dublin\, D04 P659\, Ireland
END:VEVENT
END:VCALENDAR